BEGIN:VCALENDAR
VERSION:2.0
PRODID:-//Pro Venezuela - ECPv6.15.20//NONSGML v1.0//EN
CALSCALE:GREGORIAN
METHOD:PUBLISH
X-ORIGINAL-URL:https://provenezuela.org
X-WR-CALDESC:Eventos para Pro Venezuela
REFRESH-INTERVAL;VALUE=DURATION:PT1H
X-Robots-Tag:noindex
X-PUBLISHED-TTL:PT1H
BEGIN:VTIMEZONE
TZID:UTC
BEGIN:STANDARD
TZOFFSETFROM:+0000
TZOFFSETTO:+0000
TZNAME:UTC
DTSTART:20200101T000000
END:STANDARD
END:VTIMEZONE
BEGIN:VEVENT
DTSTART;TZID=UTC:20230701T130000
DTEND;TZID=UTC:20230701T180000
DTSTAMP:20260422T133648
CREATED:20230407T114507Z
LAST-MODIFIED:20230623T112523Z
UID:283-1688216400-1688234400@provenezuela.org
SUMMARY:Stammtisch
DESCRIPTION:Los invitamos cordialmente al próximo Stammtisch el sábado 01 de julio de 2023 a partir de la 1:00 pm en el Bistro Schwarzbrenner en Endingen (Hauptstraße 34\, 79346 Endingen am Kaiserstuhl). \nPara llegar a Endingen desde Freiburg\, se puede tomar el tren desde el Freiburg Hbf ese día a las 12:02 h (Tren S11\, Gleis 6 C-D)\, llegada a Endingen Bhf a las 12:41 h. Los participantes que se animen pueden hacer un paseo en el centro de Endingen. El punto de encuentro es en el Bistro. \nSe agradece confirmar su participación enviando un correo a veranstaltungen@provenezuela.org. \n  \n\nWir laden Sie herzlich zum nächsten Stammtisch am Samstag\, 01. Juli 2023 ab 13 Uhr im Bistro Schwarzbrenner in Endingen (Hauptstraße 34\, 79346 Endingen am Kaiserstuhl) ein. \nUm von Freiburg nach Endingen zu kommen\, können Sie an diesem Tag den Zug um 12:02 Uhr ab Freiburg Hbf nehmen (S11\, Gleis 6 C-D)\, Ankunft in Endingen Bhf um 12:41 Uhr. Wer Lust hat\, kann einen Spaziergang im Zentrum von Endingen machen. Der Treffpunkt ist am Bistro. \nBitte bestätigen Sie Ihre Teilnahme mit einer E-Mail an veranstaltungen@provenezuela.org. \n  \n 
URL:https://provenezuela.org/event/stammtisch-2
LOCATION:Schwarzbrenner\, Hauptstraße 34\, Endingen am Kaiserstuhl\, Baden-Württemberg\, 79346
ATTACH;FMTTYPE=image/png:https://provenezuela.org/wp-content/uploads/2023/04/Stammtisch-Jul.-2-e1687518900103.png
ORGANIZER;CN="Pro Venezuela e. V.":MAILTO:veranstaltungen@provenezuela.org
END:VEVENT
BEGIN:VEVENT
DTSTART;TZID=UTC:20230619T000000
DTEND;TZID=UTC:20230709T233000
DTSTAMP:20260422T133648
CREATED:20230522T162017Z
LAST-MODIFIED:20230522T165646Z
UID:530-1687132800-1688945400@provenezuela.org
SUMMARY:Stadtradeln Freiburg 19.06.-09.07.2023
DESCRIPTION:Los invitamos a participar en nuestro equipo de Stadtradeln Freiburg. Stadtradeln es una iniciativa en la que el objetivo es realizar el mayor número posible de trayectos cotidianos en bicicleta durante 21 días. De esa manera se desea promocionar el uso de la bicicleta para contribuir con la protección del ambiente y el clima. No importa si vas en bicicleta todos los días o si lo haces esporádicamente. Cada kilómetro cuenta. Participar es muy fácil: \n\nRegístrate en la página: https://www.stadtradeln.de\nBusca nuestro equipo Pro Venezuela\n¡A sumar kilómetros juntos!\n\n\nWir laden Sie ein\, sich unserem Team Stadtradeln Freiburg anzuschließen. Stadtradeln ist eine Initiative\, bei der es darum geht\, über einen Zeitraum von 21 Tagen möglichst viele Strecken mit dem Fahrrad zurückzulegen. Dabei spielt es keine Rolle\, ob Sie bereits täglich oder nur selten mit dem Rad unterwegs sind. Jeder Kilometer zählt. Es ist ganz einfach\, mitzumachen: \n\nRegistrieren Sie sich auf der Website: https://www.stadtradeln.de\nSuchen Sie nach unserem Pro Venezuela Team\nLassen Sie uns gemeinsam die Kilometer zusammenzählen!\n\n 
URL:https://provenezuela.org/event/stadtradeln-freiburg
LOCATION:Berlin
ATTACH;FMTTYPE=image/png:https://provenezuela.org/wp-content/uploads/2023/05/Stadtradeln_FB_IG-e1684772497218.png
END:VEVENT
BEGIN:VEVENT
DTSTART;TZID=UTC:20230618T130000
DTEND;TZID=UTC:20230618T180000
DTSTAMP:20260422T133648
CREATED:20230421T090306Z
LAST-MODIFIED:20230606T063035Z
UID:499-1687093200-1687111200@provenezuela.org
SUMMARY:Visita al Heimatmuseum en Wyhl / Ausflug zum Heimatmuseum in Wyhl am Kaiserstuhl
DESCRIPTION:Los invitamos cordialmente a una visita guiada al Heimatmuseum del Heimatverein en la ciudad Wyhl am Kaiserstuhl (Hauptstraße 9\, 79369 Wyhl a.K.). El Heimatverein nos dará una visita guiada en el museo y un resumen histórico de la ciudad. Luego iremos juntos a comer. Si el clima lo permite se hará un paseo en la ciudad. \nDetalles del paseo serán enviados directamente a las personas que confirmen su inscripción. A modo de organización y con el fin de coordinar recursos y transporte\, se agradece confirmar su inscripción hasta el 12 de junio de 2023 enviando un correo con el título «Visita al Heimatmuseum» a veranstaltungen@provenezuela.org. \n\nWir laden Sie herzlich zu einem Ausflug in das Heimatmuseum des Heimatvereins in Wyhl am Kaiserstuhl (Hauptstraße 9\, 79369 Wyhl a.K.) ein. Der Heimatverein wird uns eine Führung durch das Museum und einen historischen Überblick über die Stadt Wyhl geben. Anschließend werden wir gemeinsam zu Mittag essen. Wenn das Wetter es zulässt\, wird es einen Spaziergang durch die Stadt geben. \nDie Details des Spaziergangs werden denjenigen\, die ihre Teilnahme bestätigen\, direkt zugesandt. Aus organisatorischen Gründen und um die Ressourcen und den Transport zu koordinieren\, bitten wir Sie\, Ihre Teilnahme bis zum 12. Juni 2023 zu bestätigen\, indem Sie eine E-Mail an veranstaltungen@provenezuela.org mit dem Betreff «Ausflug Heimatmuseum» senden.
URL:https://provenezuela.org/event/paseo-al-heimatmuseum-en-wyhl-ausflug-zum-heimatmuseum-in-wyhl-am-kaiserstuhl
LOCATION:Heimatmuseum Wyhl\, Hauptstraße 9\, Wyhl am Kaiserstuhl\, Baden-Württemberg\, 79369
ATTACH;FMTTYPE=image/png:https://provenezuela.org/wp-content/uploads/2023/04/Ausflug-Wyhl-amKaiserstuhl-e1682067774599.png
END:VEVENT
BEGIN:VEVENT
DTSTART;TZID=UTC:20221204T160000
DTEND;TZID=UTC:20221204T210000
DTSTAMP:20260422T133648
CREATED:20230407T104853Z
LAST-MODIFIED:20230407T111114Z
UID:263-1670169600-1670187600@provenezuela.org
SUMMARY:Stammtisch y concierto en diciembre
DESCRIPTION:Los invitamos cordialmente al próximo Stammtisch este domingo 4 de diciembre a las 4:00 pm en el Café Lebemann (Habsburgerstr. 110\, 79104 Freiburg). A las 6:00 pm iremos luego juntos al concierto del ensamble Tammurriata.\n\n\n\nInformación adicional sobre el concierto en el siguiente enlace:\nhttps://www.archaeologische-sammlung.uni-freiburg.de/\n\n\n\nPágina oficial del ensamble Tammurriata:\nhttps://tammurriata.de
URL:https://provenezuela.org/event/stammtisch
LOCATION:Café Lebemann\, Habsburgerstr. 110\, Freiburg\, 79104\, Alemania
ATTACH;FMTTYPE=image/jpeg:https://provenezuela.org/wp-content/uploads/2023/04/Stammtisch-Dezember-2022.jpg
END:VEVENT
BEGIN:VEVENT
DTSTART;TZID=UTC:20211127T193000
DTEND;TZID=UTC:20211127T220000
DTSTAMP:20260422T133648
CREATED:20230407T113718Z
LAST-MODIFIED:20230407T114109Z
UID:276-1638041400-1638050400@provenezuela.org
SUMMARY:Benefizkonzert: Ensemble Tammurriata
DESCRIPTION:Benefizkonzert: Eine musikalische Entdeckungsreise durch Lateinamerika\nZu Gunsten der Stiftung Entre Dos Tierras\, Unterstützung für venezolanische Flüchtlige in Bucaramanga\, Kolumbien\nhttps://www.facebook.com/Fun2tierras/\n\n\n\n\nDas Ensemble:\n\nDie Mitglieder des Ensembles Tammuriata verbindet eine grosse Leidenschaft für die Alte Musik. Die sechs jungen Musiker aus Kanada\, Italien\, Spanien\, Venezuela und der Schweiz haben sich in Freiburg während ihres Musikstudiums kennengelernt.\nAlessandra Riudalbas Wickers (Blockflöte)\, Lara Morger (Gesang)\, David Neuhaus (Cello)\, David Henkelman (Cembalo)\, Adrián Blanco (Gitarre/Laute) und der Schlagzeuger David Auli Morales suchen mit viel Virtuosität und Experimentierfreude nach neuen Wegen\, Musik vom Mittelalter bis zum Barock historisch informiert aufzuführen sowie eine Brücke zwischen der Volksmusik verschiedener Kulturen und der Zeitgenössischen Musik zu schlagen. Damit möchten sie den gemeinsamen Ursprung der Musik und die gegenseitig inspirierte Beeinflussung verschiedener Kulturen aufzeigen.\n\nhttps://tammurriata.de/\n\n\n\n\nEintritt auf Spendenbasis.
URL:https://provenezuela.org/event/benefizkonzert-ensemble-tammurriata
LOCATION:Kammermusiksaal der Hochschule für Musik Freiburg\, Schwarzwaldstrasse 141\, Freiburg\, 79102
CATEGORIES:Concierto
ATTACH;FMTTYPE=image/png:https://provenezuela.org/wp-content/uploads/2023/04/Benefizkonzert-Tammuriata-e1680867487916.png
END:VEVENT
END:VCALENDAR