BEGIN:VCALENDAR
VERSION:2.0
PRODID:-//Pro Venezuela - ECPv6.15.20//NONSGML v1.0//EN
CALSCALE:GREGORIAN
METHOD:PUBLISH
X-ORIGINAL-URL:https://provenezuela.org
X-WR-CALDESC:Eventos para Pro Venezuela
REFRESH-INTERVAL;VALUE=DURATION:PT1H
X-Robots-Tag:noindex
X-PUBLISHED-TTL:PT1H
BEGIN:VTIMEZONE
TZID:UTC
BEGIN:STANDARD
TZOFFSETFROM:+0000
TZOFFSETTO:+0000
TZNAME:UTC
DTSTART:20250101T000000
END:STANDARD
END:VTIMEZONE
BEGIN:VEVENT
DTSTART;TZID=UTC:20260422T190000
DTEND;TZID=UTC:20260422T210000
DTSTAMP:20260419T144705
CREATED:20260330T195344Z
LAST-MODIFIED:20260417T114809Z
UID:1082-1776884400-1776891600@provenezuela.org
SUMMARY:Venezuela: Entre Esperanza e Incertidumbre
DESCRIPTION:Conversación con Jesús Renzullo (ILAS-GIGA\, Hamburgo) y Julián Ferrín-Torrealba (Pro Venezuela e.V.\, Frankfurt) \nMiércoles\, 22 de abril de 2026\, 19:00 horas \nLugar: Denkbar\, Spohrstraße 46A\, 60318 Frankfurt am Main \nEl evento se llevará a cabo en español. Para participar por favor inscribirse a través del correo electrónico:\nanmeldung@denkbar-ffm.de \nDurante mucho tiempo se pensó que las guerras en Europa pertenecían al pasado\, del mismo modo que se daba por concluida la era de las intervenciones militares estadounidenses en América Latina. Sin embargo\, esta percepción cambió radicalmente a comienzos de año\, cuando la administración Trump asestó un golpe decisivo contra el régimen autoritario de Venezuela al capturar a Nicolás Maduro. En un primer momento\, muchos venezolanos celebraron este acontecimiento. Pero\, apenas tres meses después\, ese entusiasmo parece haberse desvanecido en gran medida. ¿Qué noticias nos llegan hoy desde el país? ¿Cuál es el estado de ánimo de la población? ¿Ha disminuido la represión? ¿Se perciben ya mejoras en la vida cotidiana? ¿Y cómo interpretan los millones de venezolanos en el exilio los acontecimientos en su país? \nHablaremos de esto con dos venezolanos. Jesús Renzullo es estudiante de doctorado en el Instituto de Estudios Latinoamericanos (ILAS) del Instituto Alemán de Estudios Globales y de Área (GIGA) en Hamburgo\, y Julián Ferrín-Torrealba\, economista y vicepresidente de la asociación sin fines de lucro Pro Venezuela e.V. fundada hace 10 años. \n_____________________ \nVenezuela: Zwischen Hoffen und Bangen \nGespräch mit Jesús Renzullo (ILAS-GIGA\, Hamburg) und Julián Ferrín-Torrealba (Pro Venezuela e.V.\, Frankfurt) \nMittwoch\, 22. April 2026\, 19:00 Uhr \nOrt: Denkbar\, Spohrstraße 46A\, 60318 Frankfurt am Main \nDie Veranstaltung findet in spanischer Sprache statt. Um Anmeldung wird gebeten unter: anmeldung@denkbar-ffm.de \nSo\, wie man glaubte\, dass Kriege in Europa der Vergangenheit angehören\, hielt man auch die Ära militärischer Interventionen der USA in Lateinamerika für überwunden. Bis die Trump-Administration zu Jahresbeginn zum Schlag gegen Venezuelas autoritäres Regime ausholte\, indem sie Nicolás Maduro entführte. Viele Venezolaner haben dieses Ereignis bejubelt\, doch drei Monate danach scheint die Freude großenteils verflogen. Was hört man aus dem Land? Wie ist die Stimmung in der Bevölkerung? Hat die Repression nachgelassen? Spürt man eine Verbesserung der Versorgungslage? Und wie schauen die Millionen von Geflüchteten auf die Entwicklung in ihrem Land? \nHierüber sprechen wir mit zwei Venezolanern. Jesús Renzullo ist Doktorand am Institut für Lateinamerika-Studien (ILAS) am German Institute for Global and Area Studies (GIGA) in Hamburg\, und Julián Ferrín-Torrealba\, der als Entwicklungsökonom arbeitet\, ist Vizepräsident des vor 10 Jahren gegründeten gemeinnützigen Vereins Pro Venezuela e.V.
URL:https://provenezuela.org/event/venezuela-esperanza-incertidumbre
LOCATION:Denkbar\, Spohrstraße 46A\, Frankfurt am Main\, Hessen\, 60318\, Germany
CATEGORIES:Conversatorio,Política
ATTACH;FMTTYPE=image/jpeg:https://provenezuela.org/wp-content/uploads/2026/03/WhatsApp-Image-2026-04-06-at-22.57.00.jpeg
ORGANIZER;CN="Pro Venezuela e. V.":MAILTO:veranstaltungen@provenezuela.org
END:VEVENT
END:VCALENDAR