BEGIN:VCALENDAR
VERSION:2.0
PRODID:-//Pro Venezuela - ECPv6.15.20//NONSGML v1.0//EN
CALSCALE:GREGORIAN
METHOD:PUBLISH
X-ORIGINAL-URL:https://provenezuela.org
X-WR-CALDESC:Eventos para Pro Venezuela
REFRESH-INTERVAL;VALUE=DURATION:PT1H
X-Robots-Tag:noindex
X-PUBLISHED-TTL:PT1H
BEGIN:VTIMEZONE
TZID:Europe/Paris
BEGIN:DAYLIGHT
TZOFFSETFROM:+0100
TZOFFSETTO:+0200
TZNAME:CEST
DTSTART:20240331T010000
END:DAYLIGHT
BEGIN:STANDARD
TZOFFSETFROM:+0200
TZOFFSETTO:+0100
TZNAME:CET
DTSTART:20241027T010000
END:STANDARD
BEGIN:DAYLIGHT
TZOFFSETFROM:+0100
TZOFFSETTO:+0200
TZNAME:CEST
DTSTART:20250330T010000
END:DAYLIGHT
BEGIN:STANDARD
TZOFFSETFROM:+0200
TZOFFSETTO:+0100
TZNAME:CET
DTSTART:20251026T010000
END:STANDARD
BEGIN:DAYLIGHT
TZOFFSETFROM:+0100
TZOFFSETTO:+0200
TZNAME:CEST
DTSTART:20260329T010000
END:DAYLIGHT
BEGIN:STANDARD
TZOFFSETFROM:+0200
TZOFFSETTO:+0100
TZNAME:CET
DTSTART:20261025T010000
END:STANDARD
END:VTIMEZONE
BEGIN:VEVENT
DTSTART;TZID=Europe/Paris:20251210T180000
DTEND;TZID=Europe/Paris:20251210T220000
DTSTAMP:20260421T153022
CREATED:20251123T230426Z
LAST-MODIFIED:20251124T210359Z
UID:922-1765389600-1765404000@provenezuela.org
SUMMARY:Internationales Abendessen zum Tag der Menschenrechte
DESCRIPTION:Internationales Abendessen – Ein Abend für Menschenrechte \n\n\n\n\n10. Dezember 2025 | 18:00–22:00 Uhr📍 Haus der Jugend\, Mitternachtsgasse 8\, 55116 Mainz🎟️ Eintritt frei | Essen gegen Spende \nZum Internationalen Tag der Menschenrechte lädt ProVenezuela e.V. gemeinsam mit Amnesty International Hochschulgruppe Mainz und weitere Institutionen zu einem besonderen Abend voller Begegnungen ein. \nDer 10. Dezember erinnert an die Verabschiedung der Allgemeinen Erklärung der Menschenrechte im Jahr 1948 – ein Datum\, das uns daran erinnert\, wie wichtig es ist\, sich weltweit für Würde\, Freiheit und Gerechtigkeit einzusetzen. Dieses gemeinsame Event soll Raum schaffen für Austausch\, Solidarität und gemeinsames Engagement.  \nWas euch erwartet:\n\n\n🥘 Internationale Gerichte – liebevoll zubereitet und gegen Spende erhältlich \n\n\n🎤 Kurze Impulse & Beiträge zum Themenschwerpunkt des diesjährigen Menschenrechtstages. Der 1. stellvertretende Vorsitzende von Pro Venezuela e. V. \, Julián Ferrín\, wird einen Vortrag über die aktuelle Krise in Venezuela halten. \n\n\n💬 Gespräche & Vernetzung mit Gruppen und Initiativen aus Mainz und Umgebung \n\n\n🎶 Musikalische Begleitung für eine warme und offene Atmosphäre \n\n\nDas Internationale Abendessen bringt jedes Jahr Menschen unterschiedlichster Hintergründe zusammen – zum Kennenlernen\, zum Zuhören und zum gemeinsamen Einsatz für Menschenrechte. \nKommt vorbei\, bringt eure Freund:innen mit und setzt mit uns gemeinsam ein Zeichen für eine solidarische Welt. \n\n\n\nCena Internacional – Una Noche por los Derechos Humanos\n10 de diciembre de 2025 | 18:00–22:00 h📍 Haus der Jugend\, Mitternachtsgasse 8\, 55116 Mainz🎟️ Entrada gratuita | Comida a cambio de donativo \nCon motivo del Día Internacional de los Derechos Humanos\, ProVenezuela e. V.\, en colaboración con Amnistía Internacional Mainz y otras instituciones\, invita a una velada especial llena de encuentros y convivencia. \nEl 10 de diciembre recuerda la adopción de la Declaración Universal de los Derechos Humanos en 1948\, un momento clave que nos invita a reflexionar sobre la importancia de defender la dignidad\, la libertad y la justicia en todo el mundo. Este evento conjunto busca crear un espacio para el intercambio\, la solidaridad y el compromiso común. \nQué te espera:\n\n\n🥘 Platos internacionales\, preparados con dedicación y disponibles a cambio de un donativo \n\n\n🎤 Breves intervenciones y aportes sobre el tema central del Día de los Derechos Humanos de este año. El 1. Vicepresidente de Pro Venezuela e. V. Julián Ferrín presentará una ponencia sobre la crisis actual en Venezuela. \n\n\n💬 Espacios de diálogo y networking con grupos e iniciativas de Mainz y alrededores \n\n\n🎶 Música en vivo\, que acompañará la velada con un ambiente cálido y acogedor \n\n\nLa Cena Internacional reúne cada año a personas de distintos orígenes para compartir\, escuchar y fortalecer juntos la defensa de los derechos humanos. \nTe invitamos a participar\, traer a tus amistades y unirte a nosotros para alzar una voz común por un mundo más solidario.
URL:https://provenezuela.org/event/internationales-abendessen
LOCATION:Amnesty International Hochschulgruppe Mainz\, Haus der Jugend\, Mitternachtsgasse 8\, Mainz\, Germany
CATEGORIES:Cultura,Política,Ponencias
ATTACH;FMTTYPE=image/png:https://provenezuela.org/wp-content/uploads/2025/11/A1-IA-2025-Instagram-Post-45.png
END:VEVENT
END:VCALENDAR