BEGIN:VCALENDAR
VERSION:2.0
PRODID:-//Pro Venezuela - ECPv6.15.20//NONSGML v1.0//EN
CALSCALE:GREGORIAN
METHOD:PUBLISH
X-WR-CALNAME:Pro Venezuela
X-ORIGINAL-URL:https://provenezuela.org
X-WR-CALDESC:Eventos para Pro Venezuela
REFRESH-INTERVAL;VALUE=DURATION:PT1H
X-Robots-Tag:noindex
X-PUBLISHED-TTL:PT1H
BEGIN:VTIMEZONE
TZID:UTC
BEGIN:STANDARD
TZOFFSETFROM:+0000
TZOFFSETTO:+0000
TZNAME:UTC
DTSTART:20250101T000000
END:STANDARD
END:VTIMEZONE
BEGIN:VEVENT
DTSTART;TZID=UTC:20260207T170000
DTEND;TZID=UTC:20260207T190000
DTSTAMP:20260422T122029
CREATED:20260304T192251Z
LAST-MODIFIED:20260304T192727Z
UID:1074-1770483600-1770490800@provenezuela.org
SUMMARY:Frankfurt trifft Venezuela
DESCRIPTION:Im Rahmen unseres Programms CommunityConnect planen wir gemeinsam mit ÜberdenTellerrand  Frankfurt Veranstaltungen für mehr Begegnung\, Austausch und Miteinander im Raum Frankfurt. \nWir starten direkt mit einem venezolanischen Kulturabend und laden euch herzlich ein\, gemeinsam in die Kultur Venezuelas einzutauchen – mit Musik\, Fingerfoods und einem interaktiven Quiz. 💬 \nAll unsere Veranstaltungen werden von unserem engagierten ehrenamtlichen Team organisiert – ohne dieses Team wäre das alles nicht möglich. Danke für euren Einsatz! 🧡
URL:https://provenezuela.org/event/frankfurt-trifft-venezuela
LOCATION:Begegnungszentrum Bockenheimer Treff\, Am Weingarten 18-20\, Frankfurt am Main\, Hessen\, 60487
CATEGORIES:Cocina,Cultura,Música
ORGANIZER;CN="Pro Venezuela e. V.":MAILTO:veranstaltungen@provenezuela.org
END:VEVENT
END:VCALENDAR